BEGIN:VCALENDAR
VERSION:2.0
PRODID:-//Wild State Cider - ECPv6.15.18//NONSGML v1.0//EN
CALSCALE:GREGORIAN
METHOD:PUBLISH
X-ORIGINAL-URL:https://wildstatecider.com
X-WR-CALDESC:Events for Wild State Cider
REFRESH-INTERVAL;VALUE=DURATION:PT1H
X-Robots-Tag:noindex
X-PUBLISHED-TTL:PT1H
BEGIN:VTIMEZONE
TZID:UTC
BEGIN:STANDARD
TZOFFSETFROM:+0000
TZOFFSETTO:+0000
TZNAME:UTC
DTSTART:20250101T000000
END:STANDARD
END:VTIMEZONE
BEGIN:VEVENT
DTSTART;TZID=UTC:20260427T110000
DTEND;TZID=UTC:20260502T230000
DTSTAMP:20260423T155640
CREATED:20260415T214420Z
LAST-MODIFIED:20260415T214420Z
UID:9660-1777287600-1777762800@wildstatecider.com
SUMMARY:Customer Appreciation Week
DESCRIPTION:We seriously can’t say this enough: Thank you for being supportive of us over the last 7 years! \nWhether you’ve stopped in once\, made us your weekly ritual\, dragged your friends along\, told someone about us\, or just quietly supported from the sidelines… this celebration is all for you. \nEvery day is something different: \nMonday: Free Cone Day\nEnjoy a free small creemee\, no catch. \nTuesday: Keep The Glass\nTake home a complimentary Wild State Cider glass with the purchase of a drink. \nWednesday: Spin The Wheel\nSpin the prize wheel for a guaranteed win! \nThursday: Bring a Friend\nBring a friend and enjoy buy one get one on drinks. \nFriday: $5 Flights\nEnjoy $5 flights from 11am – 7pm! \nSaturday: Merch Sale\nTake 30% – 80% off on select tanks\, long sleeves\, tees\, hats\, and more!
URL:https://wildstatecider.com/event/customer-appreciation-week/
LOCATION:Wild State Cider\, 2515 W Superior St\, Duluth\, MN\, 55806\, United States
ATTACH;FMTTYPE=image/png:https://wildstatecider.com/wp-content/uploads/2026/04/Customer-Appreciation-Week-2.png
END:VEVENT
BEGIN:VEVENT
DTSTART;TZID=UTC:20260427T180000
DTEND;TZID=UTC:20260427T210000
DTSTAMP:20260423T155640
CREATED:20260415T212132Z
LAST-MODIFIED:20260415T212132Z
UID:9641-1777312800-1777323600@wildstatecider.com
SUMMARY:Homegrown at Wild State
DESCRIPTION:It’s the week where Duluth transforms into one giant music venue. Here’s who you’ll find at Wild State on Monday night of Homegrown. \n6 PM – The Trash Cats\n7 PM – Remote Viewfinder\n8 PM – Wickie \n 
URL:https://wildstatecider.com/event/homegrown-at-wild-state-2/
LOCATION:Wild State Cider\, 2515 W Superior St\, Duluth\, MN\, 55806\, United States
ATTACH;FMTTYPE=image/png:https://wildstatecider.com/wp-content/uploads/2026/04/Homegrown-2026-1.png
END:VEVENT
BEGIN:VEVENT
DTSTART;TZID=UTC:20260429T190000
DTEND;TZID=UTC:20260429T210000
DTSTAMP:20260423T155640
CREATED:20260403T210332Z
LAST-MODIFIED:20260403T210332Z
UID:9656-1777489200-1777496400@wildstatecider.com
SUMMARY:Bingo!
DESCRIPTION:It’s bingo night! Start looking for lucky pennies; it could be your night to win big.\n\nCome for the bingo\, stay for the cider\, pizza\, ice cream\, and prizes.\n\nFree to play.
URL:https://wildstatecider.com/event/bingo-74/
LOCATION:Wild State Cider\, 2515 W Superior St\, Duluth\, MN\, 55806\, United States
ATTACH;FMTTYPE=image/jpeg:https://wildstatecider.com/wp-content/uploads/2026/04/bingo.jpg
END:VEVENT
BEGIN:VEVENT
DTSTART;TZID=UTC:20260430T190000
DTEND;TZID=UTC:20260430T210000
DTSTAMP:20260423T155640
CREATED:20260423T144424Z
LAST-MODIFIED:20260423T144424Z
UID:9682-1777575600-1777582800@wildstatecider.com
SUMMARY:Trivia
DESCRIPTION:Chug that protein shake; it’s time for a brain workout. Trivia is every Thursday night at Wild State.\n \n\n  Six rounds of general trivia\, bring your team of up to six people\, it’s always free to play. We’ve got prizes. You got this.
URL:https://wildstatecider.com/event/trivia-8/
LOCATION:Wild State Cider\, 2515 W Superior St\, Duluth\, MN\, 55806\, United States
ATTACH;FMTTYPE=image/jpeg:https://wildstatecider.com/wp-content/uploads/2023/11/396715196_828068722659745_2264390325111654465_n.jpeg
END:VEVENT
BEGIN:VEVENT
DTSTART;TZID=UTC:20260503T100000
DTEND;TZID=UTC:20260503T110000
DTSTAMP:20260423T155640
CREATED:20260423T143817Z
LAST-MODIFIED:20260423T143817Z
UID:9678-1777802400-1777806000@wildstatecider.com
SUMMARY:Yoga On The Patio
DESCRIPTION:Free patio yoga with Runa Yoga—bring your mat and show up however you are.\n    Whether you practice regularly or just want an excuse to move on a nice day\,\n    you’re good here. All levels\, all ages\, no pressure.\n   \n\n    Class will be held on the patio and canceled in the event of inclement weather.\n    Doors open at 10:00 AM.\n   \n\n    No registration required—first come\, first served.
URL:https://wildstatecider.com/event/yoga-on-the-patio-2/
LOCATION:Wild State Cider\, 2515 W Superior St\, Duluth\, MN\, 55806\, United States
ATTACH;FMTTYPE=image/png:https://wildstatecider.com/wp-content/uploads/2026/04/free-yoga-2025-cover-3.png
END:VEVENT
BEGIN:VEVENT
DTSTART;TZID=UTC:20260504T190000
DTEND;TZID=UTC:20260504T210000
DTSTAMP:20260423T155640
CREATED:20260421T160258Z
LAST-MODIFIED:20260421T160258Z
UID:9668-1777921200-1777928400@wildstatecider.com
SUMMARY:Star Wars Trivia
DESCRIPTION:Bring your trivia team for some serious Star Wars deep cuts.  \nWe’re talking the main saga and beyond—so if you actually care about the difference between the prequels and the sequels\, know your expanded universe lore\, or have opinions about the shows\, this is your night. \nTeams of up to 6\, free to play\, prizes for the winners. Whether you’re the person who can debate Jedi philosophy or just the one who remembers every Ewok’s name\, you’ll fit right in.
URL:https://wildstatecider.com/event/star-wars-trivia-3/
LOCATION:Wild State Cider\, 2515 W Superior St\, Duluth\, MN\, 55806\, United States
ATTACH;FMTTYPE=image/png:https://wildstatecider.com/wp-content/uploads/2026/04/STAR-WARS.png
END:VEVENT
BEGIN:VEVENT
DTSTART;TZID=UTC:20260510T100000
DTEND;TZID=UTC:20260510T110000
DTSTAMP:20260423T155640
CREATED:20260423T143621Z
LAST-MODIFIED:20260423T143621Z
UID:9676-1778407200-1778410800@wildstatecider.com
SUMMARY:Yoga On The Patio
DESCRIPTION:Free patio yoga with Runa Yoga—bring your mat and show up however you are.\n    Whether you practice regularly or just want an excuse to move on a nice day\,\n    you’re good here. All levels\, all ages\, no pressure.\n   \n\n    Class will be held on the patio and canceled in the event of inclement weather.\n    Doors open at 10:00 AM.\n   \n\n    No registration required—first come\, first served.
URL:https://wildstatecider.com/event/yoga-on-the-patio/
LOCATION:Wild State Cider\, 2515 W Superior St\, Duluth\, MN\, 55806\, United States
ATTACH;FMTTYPE=image/png:https://wildstatecider.com/wp-content/uploads/2026/04/free-yoga-2025-cover-3.png
END:VEVENT
BEGIN:VEVENT
DTSTART;TZID=UTC:20260516T120000
DTEND;TZID=UTC:20260516T180000
DTSTAMP:20260423T155640
CREATED:20260403T154421Z
LAST-MODIFIED:20260406T141137Z
UID:9617-1778932800-1778954400@wildstatecider.com
SUMMARY:Camp Wild State - 7 Year Anniversary Party
DESCRIPTION:It’s our 7th birthday – It’s gonna be a party.\n\n\nCamp Wild State is free to attend. Here’s a quick look at what we’ve got lined up:\n\nNew Cider Releases\nWe’re making new ciders. Imperial Prickly Chili\, Berry Galaxy\, and Tropical Dragonfruit. Be the first to try ’em at CWS!\n\nPatio Games\nBean bags\, giant beer pong\, and some other fun activities.\n\nAdventure Package Giveaway\nWin some sweet adventure stuff.\n\n$1 Small Creemees\nIt’s a steal of a deal on our Vermont-style soft serve. Flavor will be S’mores!\n\nLive Music\nDJ Walt Dizzo | 12 PM\nPalisades | 2 PM\nBaharat | 3 PM\nBrothers Burn Mountain | 4 PM\n\nIt’s an all-ages event! There will be face painting for kiddos from 12 PM – 3 PM.
URL:https://wildstatecider.com/event/camp-wild-state-7-year-anniversary-party/
LOCATION:Wild State Cider\, 2515 W Superior St\, Duluth\, MN\, 55806\, United States
ATTACH;FMTTYPE=image/png:https://wildstatecider.com/wp-content/uploads/2026/04/Camp-Wild-State-2026-2.png
END:VEVENT
BEGIN:VEVENT
DTSTART;TZID=UTC:20260517T100000
DTEND;TZID=UTC:20260517T110000
DTSTAMP:20260423T155640
CREATED:20260423T143947Z
LAST-MODIFIED:20260423T143947Z
UID:9679-1779012000-1779015600@wildstatecider.com
SUMMARY:Yoga On The Patio
DESCRIPTION:Free patio yoga with Runa Yoga—bring your mat and show up however you are.\n    Whether you practice regularly or just want an excuse to move on a nice day\,\n    you’re good here. All levels\, all ages\, no pressure.\n   \n\n    Class will be held on the patio and canceled in the event of inclement weather.\n    Doors open at 10:00 AM.\n   \n\n    No registration required—first come\, first served.
URL:https://wildstatecider.com/event/yoga-on-the-patio-3/
LOCATION:Wild State Cider\, 2515 W Superior St\, Duluth\, MN\, 55806\, United States
ATTACH;FMTTYPE=image/png:https://wildstatecider.com/wp-content/uploads/2026/04/free-yoga-2025-cover-3.png
END:VEVENT
BEGIN:VEVENT
DTSTART;TZID=UTC:20260524T100000
DTEND;TZID=UTC:20260524T110000
DTSTAMP:20260423T155640
CREATED:20260423T144037Z
LAST-MODIFIED:20260423T144037Z
UID:9680-1779616800-1779620400@wildstatecider.com
SUMMARY:Yoga On The Patio
DESCRIPTION:Free patio yoga with Runa Yoga—bring your mat and show up however you are.\n    Whether you practice regularly or just want an excuse to move on a nice day\,\n    you’re good here. All levels\, all ages\, no pressure.\n   \n\n    Class will be held on the patio and canceled in the event of inclement weather.\n    Doors open at 10:00 AM.\n   \n\n    No registration required—first come\, first served.
URL:https://wildstatecider.com/event/yoga-on-the-patio-4/
LOCATION:Wild State Cider\, 2515 W Superior St\, Duluth\, MN\, 55806\, United States
ATTACH;FMTTYPE=image/png:https://wildstatecider.com/wp-content/uploads/2026/04/free-yoga-2025-cover-3.png
END:VEVENT
BEGIN:VEVENT
DTSTART;TZID=UTC:20260531T100000
DTEND;TZID=UTC:20260531T110000
DTSTAMP:20260423T155640
CREATED:20260423T144140Z
LAST-MODIFIED:20260423T144140Z
UID:9681-1780221600-1780225200@wildstatecider.com
SUMMARY:Yoga On The Patio
DESCRIPTION:Free patio yoga with Runa Yoga—bring your mat and show up however you are.\n    Whether you practice regularly or just want an excuse to move on a nice day\,\n    you’re good here. All levels\, all ages\, no pressure.\n   \n\n    Class will be held on the patio and canceled in the event of inclement weather.\n    Doors open at 10:00 AM.\n   \n\n    No registration required—first come\, first served.
URL:https://wildstatecider.com/event/yoga-on-the-patio-5/
LOCATION:Wild State Cider\, 2515 W Superior St\, Duluth\, MN\, 55806\, United States
ATTACH;FMTTYPE=image/png:https://wildstatecider.com/wp-content/uploads/2026/04/free-yoga-2025-cover-3.png
END:VEVENT
END:VCALENDAR