BEGIN:VCALENDAR
VERSION:2.0
PRODID:-//Wild State Cider - ECPv6.15.18//NONSGML v1.0//EN
CALSCALE:GREGORIAN
METHOD:PUBLISH
X-WR-CALNAME:Wild State Cider
X-ORIGINAL-URL:https://wildstatecider.com
X-WR-CALDESC:Events for Wild State Cider
REFRESH-INTERVAL;VALUE=DURATION:PT1H
X-Robots-Tag:noindex
X-PUBLISHED-TTL:PT1H
BEGIN:VTIMEZONE
TZID:UTC
BEGIN:STANDARD
TZOFFSETFROM:+0000
TZOFFSETTO:+0000
TZNAME:UTC
DTSTART:20250101T000000
END:STANDARD
END:VTIMEZONE
BEGIN:VEVENT
DTSTART;TZID=UTC:20260423T190000
DTEND;TZID=UTC:20260423T210000
DTSTAMP:20260423T022051
CREATED:20260421T162612Z
LAST-MODIFIED:20260421T162612Z
UID:9671-1776970800-1776978000@wildstatecider.com
SUMMARY:Trivia
DESCRIPTION:Chug that protein shake; it’s time for a brain workout. Trivia is every Thursday night at Wild State.\n \n\n  Six rounds of general trivia\, bring your team of up to six people\, it’s always free to play. We’ve got prizes. You got this.
URL:https://wildstatecider.com/event/trivia-7/
LOCATION:Wild State Cider\, 2515 W Superior St\, Duluth\, MN\, 55806\, United States
ATTACH;FMTTYPE=image/jpeg:https://wildstatecider.com/wp-content/uploads/2023/11/396715196_828068722659745_2264390325111654465_n.jpeg
END:VEVENT
END:VCALENDAR