BEGIN:VCALENDAR
VERSION:2.0
PRODID:-//Wild State Cider - ECPv6.15.18//NONSGML v1.0//EN
CALSCALE:GREGORIAN
METHOD:PUBLISH
X-WR-CALNAME:Wild State Cider
X-ORIGINAL-URL:https://wildstatecider.com
X-WR-CALDESC:Events for Wild State Cider
REFRESH-INTERVAL;VALUE=DURATION:PT1H
X-Robots-Tag:noindex
X-PUBLISHED-TTL:PT1H
BEGIN:VTIMEZONE
TZID:UTC
BEGIN:STANDARD
TZOFFSETFROM:+0000
TZOFFSETTO:+0000
TZNAME:UTC
DTSTART:20250101T000000
END:STANDARD
END:VTIMEZONE
BEGIN:VEVENT
DTSTART;TZID=UTC:20260422T190000
DTEND;TZID=UTC:20260422T210000
DTSTAMP:20260422T031811
CREATED:20260403T175005Z
LAST-MODIFIED:20260403T175005Z
UID:9636-1776884400-1776891600@wildstatecider.com
SUMMARY:Book Bingo
DESCRIPTION:Join us for a classic game night—library style—with a cider in hand. You can expect bookish and library-themed prizes\, and Library staff will be on hand to sign up new library card holders and reactivate library cards. The first guests to arrive will receive a complimentary\, limited-edition pint glass from Lake Superior Art Glass!
URL:https://wildstatecider.com/event/book-bingo/
LOCATION:Wild State Cider\, 2515 W Superior St\, Duluth\, MN\, 55806\, United States
ATTACH;FMTTYPE=image/jpeg:https://wildstatecider.com/wp-content/uploads/2026/04/book-bingo.jpg
ORGANIZER;CN="Duluth Public Library":MAILTO:webmail@duluthmn.gov
END:VEVENT
END:VCALENDAR