BEGIN:VCALENDAR
VERSION:2.0
PRODID:-//Wild State Cider - ECPv6.15.18//NONSGML v1.0//EN
CALSCALE:GREGORIAN
METHOD:PUBLISH
X-WR-CALNAME:Wild State Cider
X-ORIGINAL-URL:https://wildstatecider.com
X-WR-CALDESC:Events for Wild State Cider
REFRESH-INTERVAL;VALUE=DURATION:PT1H
X-Robots-Tag:noindex
X-PUBLISHED-TTL:PT1H
BEGIN:VTIMEZONE
TZID:UTC
BEGIN:STANDARD
TZOFFSETFROM:+0000
TZOFFSETTO:+0000
TZNAME:UTC
DTSTART:20250101T000000
END:STANDARD
END:VTIMEZONE
BEGIN:VEVENT
DTSTART;TZID=UTC:20260415T190000
DTEND;TZID=UTC:20260415T210000
DTSTAMP:20260421T095303
CREATED:20260403T204129Z
LAST-MODIFIED:20260403T204129Z
UID:9650-1776279600-1776286800@wildstatecider.com
SUMMARY:Bingo!
DESCRIPTION:It’s bingo night! Start looking for lucky pennies; it could be your night to win big.\n\nCome for the bingo\, stay for the cider\, pizza\, ice cream\, and prizes.\n\nFree to play.
URL:https://wildstatecider.com/event/bingo-73/
LOCATION:Wild State Cider\, 2515 W Superior St\, Duluth\, MN\, 55806\, United States
ATTACH;FMTTYPE=image/jpeg:https://wildstatecider.com/wp-content/uploads/2026/04/bingo.jpg
END:VEVENT
END:VCALENDAR