BEGIN:VCALENDAR
VERSION:2.0
PRODID:-//Wild State Cider - ECPv6.15.18//NONSGML v1.0//EN
CALSCALE:GREGORIAN
METHOD:PUBLISH
X-ORIGINAL-URL:https://wildstatecider.com
X-WR-CALDESC:Events for Wild State Cider
REFRESH-INTERVAL;VALUE=DURATION:PT1H
X-Robots-Tag:noindex
X-PUBLISHED-TTL:PT1H
BEGIN:VTIMEZONE
TZID:UTC
BEGIN:STANDARD
TZOFFSETFROM:+0000
TZOFFSETTO:+0000
TZNAME:UTC
DTSTART:20240101T000000
END:STANDARD
END:VTIMEZONE
BEGIN:VEVENT
DTSTART;TZID=UTC:20251102T110000
DTEND;TZID=UTC:20251102T150000
DTSTAMP:20260424T112022
CREATED:20251024T211702Z
LAST-MODIFIED:20251027T220939Z
UID:9484-1762081200-1762095600@wildstatecider.com
SUMMARY:Pizza Brunch 2.0
DESCRIPTION:Whoah! You all were waiting outside the doors for Pizza Brunch 2000 like it was a Kelly Clarkson concert.\n\n  \nWe didn’t make enough pizza for you\, so we’re making more! Same specialty pizzas\, same drinks\, on a second date. We’re skipping the 2000s-theme part though\, since some things are better in small doses.\n\n  \nWrecktangle will be serving up their award-winning Very Nice Breakfast Pizza and TWO specialty brunch ‘zas they’re making just for this.\n\n  \n\nPIZZA BENEDICT is made with scrambled eggs and bacon\, topped with hollandaise sauce\, waffle fries\, green onions\, and paprika.\n4 BERRY FRENCH TOAST is made with focaccia bread seared in vanilla custard and baked with a triple berry compote\, then topped with fresh strawberries\, whipped cream\, syrup\, and mint\, with a little dusting of cinnamon.\n\n  \n\nWe put dill pickle cider in Bloody Marys. Trust us. It’s a build-your-own situation and they’re only available during Pizza Brunch! There’ll be orange and pineapple cider mimosas\, too.\n  \n\n\nFree to attend\, all ages are welcome.
URL:https://wildstatecider.com/event/pizza-brunch-2-0/
LOCATION:Wild State Cider\, 2515 W Superior St\, Duluth\, MN\, 55806\, United States
ATTACH;FMTTYPE=image/png:https://wildstatecider.com/wp-content/uploads/2025/10/Pizza-Brunch-Facebook-event_FINAL.png
END:VEVENT
END:VCALENDAR