BEGIN:VCALENDAR
VERSION:2.0
PRODID:-//Wild State Cider - ECPv6.15.18//NONSGML v1.0//EN
CALSCALE:GREGORIAN
METHOD:PUBLISH
X-ORIGINAL-URL:https://wildstatecider.com
X-WR-CALDESC:Events for Wild State Cider
REFRESH-INTERVAL;VALUE=DURATION:PT1H
X-Robots-Tag:noindex
X-PUBLISHED-TTL:PT1H
BEGIN:VTIMEZONE
TZID:UTC
BEGIN:STANDARD
TZOFFSETFROM:+0000
TZOFFSETTO:+0000
TZNAME:UTC
DTSTART:20240101T000000
END:STANDARD
END:VTIMEZONE
BEGIN:VEVENT
DTSTART;TZID=UTC:20250206T140000
DTEND;TZID=UTC:20250206T220000
DTSTAMP:20260423T170513
CREATED:20250124T192722Z
LAST-MODIFIED:20250207T145202Z
UID:8663-1738850400-1738879200@wildstatecider.com
SUMMARY:Strawberry Cheesecake Creemee Release
DESCRIPTION:The new Strawberry Cheesecake Creemee is literally made with FIVE full cheesecakes. And of course\, buckets of fresh strawberries.\n\nHere for the month of February.\n\nWhat’s a Creemee? It’s our Vermont-style\, soft serve ice cream that has a permanent home with Camp Creemee in the taproom.
URL:https://wildstatecider.com/event/strawberry-cheesecake-creemee-release/
LOCATION:Wild State Cider\, 2515 W Superior St\, Duluth\, MN\, 55806\, United States
ATTACH;FMTTYPE=image/jpeg:https://wildstatecider.com/wp-content/uploads/2025/01/strawberry-cheesecake.jpg
END:VEVENT
BEGIN:VEVENT
DTSTART;TZID=UTC:20250206T190000
DTEND;TZID=UTC:20250206T210000
DTSTAMP:20260423T170513
CREATED:20250124T194234Z
LAST-MODIFIED:20250124T194234Z
UID:8669-1738868400-1738875600@wildstatecider.com
SUMMARY:Trivia Night
DESCRIPTION:Chug that protein shake\, it’s time for a brain workout. Trivia is every Thursday night at Wild State.\n\nThere are six rounds of general trivia. Bring your team of up to six people. It takes two to make a team.\n\nIt’s free to play. We’ve got prizes. You got this.\n\nCover image by Bjornberg Photography.
URL:https://wildstatecider.com/event/trivia-night-43/
LOCATION:Wild State Cider\, 2515 W Superior St\, Duluth\, MN\, 55806\, United States
ATTACH;FMTTYPE=image/png:https://wildstatecider.com/wp-content/uploads/2024/12/1-2.png
END:VEVENT
END:VCALENDAR