BEGIN:VCALENDAR
VERSION:2.0
PRODID:-//Wild State Cider - ECPv6.15.18//NONSGML v1.0//EN
CALSCALE:GREGORIAN
METHOD:PUBLISH
X-ORIGINAL-URL:https://wildstatecider.com
X-WR-CALDESC:Events for Wild State Cider
REFRESH-INTERVAL;VALUE=DURATION:PT1H
X-Robots-Tag:noindex
X-PUBLISHED-TTL:PT1H
BEGIN:VTIMEZONE
TZID:UTC
BEGIN:STANDARD
TZOFFSETFROM:+0000
TZOFFSETTO:+0000
TZNAME:UTC
DTSTART:20240101T000000
END:STANDARD
END:VTIMEZONE
BEGIN:VEVENT
DTSTART;TZID=UTC:20250205T160000
DTEND;TZID=UTC:20250205T200000
DTSTAMP:20260423T153317
CREATED:20250130T192756Z
LAST-MODIFIED:20250130T192756Z
UID:8706-1738771200-1738785600@wildstatecider.com
SUMMARY:Johnny B's Food Truck Pop-Up
DESCRIPTION:Local\, organic food by Johnny B’s Food Truck in Duluth MN. Enjoy New American cuisine with a focus on seasonal ingredients.\n\n\n\n\n\nHe’s popping up for Bingo night from 4:00 – 8:00 PM. Come hungry.
URL:https://wildstatecider.com/event/johnny-bs-food-truck-pop-up/
LOCATION:Wild State Cider\, 2515 W Superior St\, Duluth\, MN\, 55806\, United States
ATTACH;FMTTYPE=image/png:https://wildstatecider.com/wp-content/uploads/2025/01/johnny-bs.png
END:VEVENT
BEGIN:VEVENT
DTSTART;TZID=UTC:20250205T190000
DTEND;TZID=UTC:20250205T210000
DTSTAMP:20260423T153317
CREATED:20250124T193336Z
LAST-MODIFIED:20250124T193336Z
UID:8665-1738782000-1738789200@wildstatecider.com
SUMMARY:Bingo!
DESCRIPTION:It’s bingo night! Free to play on Wednesdays. Bring a friend and bring your game face. \nStay cozy\, wear your wool socks\, and sip on some hot mulled cider while you’re at it. \nPS – Drag Bingo has moved to the second TUESDAY of the month in 2025. \nEvent cover image by Bjornberg Photography.
URL:https://wildstatecider.com/event/bingo-26/
LOCATION:Wild State Cider\, 2515 W Superior St\, Duluth\, MN\, 55806\, United States
ATTACH;FMTTYPE=image/png:https://wildstatecider.com/wp-content/uploads/2024/12/Trivia-Night-3.png
END:VEVENT
END:VCALENDAR