BEGIN:VCALENDAR
VERSION:2.0
PRODID:-//Wild State Cider - ECPv6.15.18//NONSGML v1.0//EN
CALSCALE:GREGORIAN
METHOD:PUBLISH
X-WR-CALNAME:Wild State Cider
X-ORIGINAL-URL:https://wildstatecider.com
X-WR-CALDESC:Events for Wild State Cider
REFRESH-INTERVAL;VALUE=DURATION:PT1H
X-Robots-Tag:noindex
X-PUBLISHED-TTL:PT1H
BEGIN:VTIMEZONE
TZID:UTC
BEGIN:STANDARD
TZOFFSETFROM:+0000
TZOFFSETTO:+0000
TZNAME:UTC
DTSTART:20230101T000000
END:STANDARD
END:VTIMEZONE
BEGIN:VEVENT
DTSTART;TZID=UTC:20241220T190000
DTEND;TZID=UTC:20241220T210000
DTSTAMP:20260424T124848
CREATED:20241211T160701Z
LAST-MODIFIED:20241219T213834Z
UID:8551-1734721200-1734728400@wildstatecider.com
SUMMARY:Live Music - Hobo Revival
DESCRIPTION:Hobo Revival: an original band from Northern Minnesota. All songs are written by founding member Kim Nagler. You just never know who will show up to jam. \n  \nFree to attend. All ages are welcome.
URL:https://wildstatecider.com/event/live-music-hobo-revival/
LOCATION:Wild State Cider\, 2515 W Superior St\, Duluth\, MN\, 55806\, United States
ATTACH;FMTTYPE=image/png:https://wildstatecider.com/wp-content/uploads/2024/12/hobo-revival-december-24-1.png
END:VEVENT
END:VCALENDAR