BEGIN:VCALENDAR
VERSION:2.0
PRODID:-//Wild State Cider - ECPv6.15.18//NONSGML v1.0//EN
CALSCALE:GREGORIAN
METHOD:PUBLISH
X-ORIGINAL-URL:https://wildstatecider.com
X-WR-CALDESC:Events for Wild State Cider
REFRESH-INTERVAL;VALUE=DURATION:PT1H
X-Robots-Tag:noindex
X-PUBLISHED-TTL:PT1H
BEGIN:VTIMEZONE
TZID:UTC
BEGIN:STANDARD
TZOFFSETFROM:+0000
TZOFFSETTO:+0000
TZNAME:UTC
DTSTART:20230101T000000
END:STANDARD
END:VTIMEZONE
BEGIN:VEVENT
DTSTART;TZID=UTC:20241215T110000
DTEND;TZID=UTC:20241215T150000
DTSTAMP:20260424T141356
CREATED:20241118T194135Z
LAST-MODIFIED:20241123T045152Z
UID:8502-1734260400-1734274800@wildstatecider.com
SUMMARY:Holiday Gift Market
DESCRIPTION:Who cares about procrastinating if you get it done in time\, right? Shop local and get it all done before the big exchange. \nIt’s hot mulled cider season. It’s a benefit of the season where frozen water falls from the sky. That means you can enjoy a hot mulled cider while you shop. \nThe market is free to attend and open to all ages. Stay cozy & warm with all vendors set up inside. \nWhat’s available? Handmade gemstone jewelry\, watercolor paintings\, ornaments\, outdoor apparel\, fanny packs\, bike bags\, canned goods\, beaded earrings\, pottery\, and more! \nFeatured local makers:\nWonderfully Made\nHappy Space\nROMP bags\nLittle Bitz Store\nRebecca Lorenz\nNorth Country Craft\nEuphoria Earrings & Gifts \nFood Vendors:\nNorth Star Chocolate\nbaKed\nRoot Cellar Preserves\nRitual Salad
URL:https://wildstatecider.com/event/holiday-gift-market-2024/
LOCATION:Wild State Cider\, 2515 W Superior St\, Duluth\, MN\, 55806\, United States
ATTACH;FMTTYPE=image/png:https://wildstatecider.com/wp-content/uploads/2024/11/Holiday-Market-FB-Event-Cover.png
END:VEVENT
END:VCALENDAR