BEGIN:VCALENDAR
VERSION:2.0
PRODID:-//Wild State Cider - ECPv6.15.18//NONSGML v1.0//EN
CALSCALE:GREGORIAN
METHOD:PUBLISH
X-WR-CALNAME:Wild State Cider
X-ORIGINAL-URL:https://wildstatecider.com
X-WR-CALDESC:Events for Wild State Cider
REFRESH-INTERVAL;VALUE=DURATION:PT1H
X-Robots-Tag:noindex
X-PUBLISHED-TTL:PT1H
BEGIN:VTIMEZONE
TZID:UTC
BEGIN:STANDARD
TZOFFSETFROM:+0000
TZOFFSETTO:+0000
TZNAME:UTC
DTSTART:20230101T000000
END:STANDARD
END:VTIMEZONE
BEGIN:VEVENT
DTSTART;TZID=UTC:20241201T120000
DTEND;TZID=UTC:20241201T170000
DTSTAMP:20260424T141015
CREATED:20241127T221932Z
LAST-MODIFIED:20241127T221932Z
UID:8530-1733054400-1733072400@wildstatecider.com
SUMMARY:baKed GF Pop-Up
DESCRIPTION:Gluten-Free\, Celiac Safe cookies\, bars\, cupcakes\, and more! Stop and grab a delicious treat to go with your cider. Stay tuned to baKed GF’s social meida pages for the menu.
URL:https://wildstatecider.com/event/baked-gf-pop-up-4/
LOCATION:Wild State Cider\, 2515 W Superior St\, Duluth\, MN\, 55806\, United States
ATTACH;FMTTYPE=image/png:https://wildstatecider.com/wp-content/uploads/2024/11/baked-gf.png
END:VEVENT
BEGIN:VEVENT
DTSTART;TZID=UTC:20241201T140000
DTEND;TZID=UTC:20241201T180000
DTSTAMP:20260424T141015
CREATED:20241118T183421Z
LAST-MODIFIED:20241119T174427Z
UID:8496-1733061600-1733076000@wildstatecider.com
SUMMARY:Boozy Book Fair by Crow & Co. To Go
DESCRIPTION:Remember when the book fair would come to your school as a kid?  \nIt’s like that but for adults. Maybe there will be Lisa Frank items or holographic stickers.  \nThis event is by Crow & Co. To Go\, a traveling bookstore.
URL:https://wildstatecider.com/event/boozy-book-fair-by-crow-co-to-go/
LOCATION:Wild State Cider\, 2515 W Superior St\, Duluth\, MN\, 55806\, United States
ATTACH;FMTTYPE=image/jpeg:https://wildstatecider.com/wp-content/uploads/2024/11/PXL_20241116_233353576.PORTRAIT-EDIT-scaled.jpg
ORGANIZER;CN="Crow & Co. To Go":MAILTO:sara.crow@crowandcobooks.com
END:VEVENT
END:VCALENDAR