BEGIN:VCALENDAR
VERSION:2.0
PRODID:-//Wild State Cider - ECPv6.15.18//NONSGML v1.0//EN
CALSCALE:GREGORIAN
METHOD:PUBLISH
X-ORIGINAL-URL:https://wildstatecider.com
X-WR-CALDESC:Events for Wild State Cider
REFRESH-INTERVAL;VALUE=DURATION:PT1H
X-Robots-Tag:noindex
X-PUBLISHED-TTL:PT1H
BEGIN:VTIMEZONE
TZID:UTC
BEGIN:STANDARD
TZOFFSETFROM:+0000
TZOFFSETTO:+0000
TZNAME:UTC
DTSTART:20230101T000000
END:STANDARD
END:VTIMEZONE
BEGIN:VEVENT
DTSTART;TZID=UTC:20241127T190000
DTEND;TZID=UTC:20241127T210000
DTSTAMP:20260424T125025
CREATED:20241008T205409Z
LAST-MODIFIED:20241008T205409Z
UID:8400-1732734000-1732741200@wildstatecider.com
SUMMARY:Bingo!
DESCRIPTION:It’s bingo night! Free to play on Wednesdays. Bring a friend\, bring your dog\, or bring both.\n\nPlay out on the patio! That’s assuming the rain clouds don’t decide to empty on bingo night.\n\nCheck out the event calendar to see if there will be a food truck or pop-up too.\n\nPS – The second Wednesday of the month is Drag Bingo!
URL:https://wildstatecider.com/event/bingo-24/
LOCATION:Wild State Cider\, 2515 W Superior St\, Duluth\, MN\, 55806\, United States
ATTACH;FMTTYPE=image/jpeg:https://wildstatecider.com/wp-content/uploads/2024/08/449507701_996718395794776_1827265822875645427_n.jpg
END:VEVENT
END:VCALENDAR