BEGIN:VCALENDAR
VERSION:2.0
PRODID:-//Wild State Cider - ECPv6.15.18//NONSGML v1.0//EN
CALSCALE:GREGORIAN
METHOD:PUBLISH
X-ORIGINAL-URL:https://wildstatecider.com
X-WR-CALDESC:Events for Wild State Cider
REFRESH-INTERVAL;VALUE=DURATION:PT1H
X-Robots-Tag:noindex
X-PUBLISHED-TTL:PT1H
BEGIN:VTIMEZONE
TZID:UTC
BEGIN:STANDARD
TZOFFSETFROM:+0000
TZOFFSETTO:+0000
TZNAME:UTC
DTSTART:20230101T000000
END:STANDARD
END:VTIMEZONE
BEGIN:VEVENT
DTSTART;TZID=UTC:20240829T160000
DTEND;TZID=UTC:20240829T200000
DTSTAMP:20260423T134934
CREATED:20240711T213143Z
LAST-MODIFIED:20240711T213143Z
UID:7905-1724947200-1724961600@wildstatecider.com
SUMMARY:Bowlz N’ Thangz Food Truck
DESCRIPTION:Food in a bowl. Brilliant.\n\nBowlz N’ Thangz will be onsite at the Wild State Cider taproom on Thursday nights in the summer from 4:00-8:00 PM.\n\nSit out on the patio and bring your pup.
URL:https://wildstatecider.com/event/bowlz-n-thangz-food-truck-13/
LOCATION:Wild State Cider\, 2515 W Superior St\, Duluth\, MN\, 55806\, United States
ATTACH;FMTTYPE=image/png:https://wildstatecider.com/wp-content/uploads/2024/07/Untitled-design-65.png
END:VEVENT
BEGIN:VEVENT
DTSTART;TZID=UTC:20240829T190000
DTEND;TZID=UTC:20240829T210000
DTSTAMP:20260423T134934
CREATED:20240617T182545Z
LAST-MODIFIED:20240617T182545Z
UID:7787-1724958000-1724965200@wildstatecider.com
SUMMARY:Trivia Night
DESCRIPTION:Trivia is every Thursday night at Wild State from 7:00 – 9:00 PM \nSix rounds of general trivia\, bring your team of up to six people\, free to play. We’ve got prizes. \nPlay indoors or outside on the patio\, weather permitting. You got this.
URL:https://wildstatecider.com/event/trivia-night-25/
LOCATION:Wild State Cider\, 2515 W Superior St\, Duluth\, MN\, 55806\, United States
ATTACH;FMTTYPE=image/jpeg:https://wildstatecider.com/wp-content/uploads/2023/11/396715196_828068722659745_2264390325111654465_n.jpeg
END:VEVENT
END:VCALENDAR