BEGIN:VCALENDAR
VERSION:2.0
PRODID:-//Wild State Cider - ECPv6.15.18//NONSGML v1.0//EN
CALSCALE:GREGORIAN
METHOD:PUBLISH
X-ORIGINAL-URL:https://wildstatecider.com
X-WR-CALDESC:Events for Wild State Cider
REFRESH-INTERVAL;VALUE=DURATION:PT1H
X-Robots-Tag:noindex
X-PUBLISHED-TTL:PT1H
BEGIN:VTIMEZONE
TZID:UTC
BEGIN:STANDARD
TZOFFSETFROM:+0000
TZOFFSETTO:+0000
TZNAME:UTC
DTSTART:20230101T000000
END:STANDARD
END:VTIMEZONE
BEGIN:VEVENT
DTSTART;TZID=UTC:20240725T190000
DTEND;TZID=UTC:20240725T210000
DTSTAMP:20260422T193332
CREATED:20240617T182036Z
LAST-MODIFIED:20240617T182036Z
UID:7782-1721934000-1721941200@wildstatecider.com
SUMMARY:Trivia Night
DESCRIPTION:Trivia is every Thursday night at Wild State from 7:00 – 9:00 PM \nSix rounds of general trivia\, bring your team of up to six people\, free to play. We’ve got prizes. \nPlay indoors or outside on the patio\, weather permitting. You got this.
URL:https://wildstatecider.com/event/trivia-night-20/
LOCATION:Wild State Cider\, 2515 W Superior St\, Duluth\, MN\, 55806\, United States
ATTACH;FMTTYPE=image/jpeg:https://wildstatecider.com/wp-content/uploads/2023/11/396715196_828068722659745_2264390325111654465_n.jpeg
END:VEVENT
END:VCALENDAR