BEGIN:VCALENDAR
VERSION:2.0
PRODID:-//Wild State Cider - ECPv6.15.18//NONSGML v1.0//EN
CALSCALE:GREGORIAN
METHOD:PUBLISH
X-WR-CALNAME:Wild State Cider
X-ORIGINAL-URL:https://wildstatecider.com
X-WR-CALDESC:Events for Wild State Cider
REFRESH-INTERVAL;VALUE=DURATION:PT1H
X-Robots-Tag:noindex
X-PUBLISHED-TTL:PT1H
BEGIN:VTIMEZONE
TZID:UTC
BEGIN:STANDARD
TZOFFSETFROM:+0000
TZOFFSETTO:+0000
TZNAME:UTC
DTSTART:20230101T000000
END:STANDARD
END:VTIMEZONE
BEGIN:VEVENT
DTSTART;TZID=UTC:20240713T103000
DTEND;TZID=UTC:20240713T113000
DTSTAMP:20260422T192954
CREATED:20240701T162239Z
LAST-MODIFIED:20240701T162239Z
UID:7874-1720866600-1720870200@wildstatecider.com
SUMMARY:Zumba with REV Fitness
DESCRIPTION:Groove masters\, this one is for you. REV Fitness is hosting a Zumba/Pomsquad class at the taproom. \nSee you there\, dancing queen. \n\nRegistration is $15 and is required as class space is limited.\n*Please bring clean shoes you are comfortable exercising in.\n\nDoors open at 10:30am and will lock at the start of class\, so please arrive early to allow for check-in! If you are late and miss entry to class you will still be charged for class.
URL:https://wildstatecider.com/event/zumba-with-rev-fitness/
LOCATION:Wild State Cider\, 2515 W Superior St\, Duluth\, MN\, 55806\, United States
ATTACH;FMTTYPE=image/jpeg:https://wildstatecider.com/wp-content/uploads/2024/07/448878654_502024275678880_7058022992478864684_n.jpg
END:VEVENT
END:VCALENDAR